BEGIN:VCALENDAR
VERSION:2.0
PRODID:icalendar-ruby
CALSCALE:GREGORIAN
METHOD:PUBLISH
BEGIN:VEVENT
DTSTAMP:20260425T172655Z
UID:7-1800827@shadyoaks.org
DTSTART:20261101T153000Z
DTEND:20261101T163000Z
CLASS:PUBLIC
CREATED:20260425T120838
DESCRIPTION:Morning Worship
LAST-MODIFIED:20260425T120838
LOCATION:
SUMMARY:Morning Worship
URL;VALUE=URI:https://www.shadyoaks.org/events/morning-worship/2026-11-01
END:VEVENT
END:VCALENDAR
