BEGIN:VCALENDAR
VERSION:2.0
PRODID:icalendar-ruby
CALSCALE:GREGORIAN
METHOD:PUBLISH
BEGIN:VEVENT
DTSTAMP:20260425T130443Z
UID:7-1798508@shadyoaks.org
DTSTART:20261011T143000Z
DTEND:20261011T153000Z
CLASS:PUBLIC
CREATED:20260425T064711
DESCRIPTION:Morning Worship
LAST-MODIFIED:20260425T064711
LOCATION:
SUMMARY:Morning Worship
URL;VALUE=URI:https://www.shadyoaks.org/events/morning-worship/2026-10-11
END:VEVENT
END:VCALENDAR
