BEGIN:VCALENDAR
VERSION:2.0
PRODID:icalendar-ruby
CALSCALE:GREGORIAN
METHOD:PUBLISH
BEGIN:VEVENT
DTSTAMP:20260425T113034Z
UID:7-1797349@shadyoaks.org
DTSTART:20261004T143000Z
DTEND:20261004T153000Z
CLASS:PUBLIC
CREATED:20260424T210119
DESCRIPTION:Morning Worship
LAST-MODIFIED:20260424T210119
LOCATION:
SUMMARY:Morning Worship
URL;VALUE=URI:https://www.shadyoaks.org/events/morning-worship/2026-10-04
END:VEVENT
END:VCALENDAR
