BEGIN:VCALENDAR
VERSION:2.0
PRODID:icalendar-ruby
CALSCALE:GREGORIAN
METHOD:PUBLISH
BEGIN:VEVENT
DTSTAMP:20260421T091003Z
UID:62-1770553@shadyoaks.org
DTSTART:20250306T003000Z
DTEND:20250306T013000Z
CLASS:PUBLIC
CREATED:20260420T193705
DESCRIPTION:Adult Choir
LAST-MODIFIED:20260420T193705
LOCATION:
SUMMARY:Adult Choir
URL;VALUE=URI:https://www.shadyoaks.org/events/adult-choir/2025-03-05
END:VEVENT
END:VCALENDAR
